BEGIN:VCALENDAR
VERSION:2.0
PRODID:-//Valtiotieteellinen yhdistys - ECPv6.15.20//NONSGML v1.0//EN
CALSCALE:GREGORIAN
METHOD:PUBLISH
X-WR-CALNAME:Valtiotieteellinen yhdistys
X-ORIGINAL-URL:https://vty.fi
X-WR-CALDESC:Tapahtumat Valtiotieteellinen yhdistys
REFRESH-INTERVAL;VALUE=DURATION:PT1H
X-Robots-Tag:noindex
X-PUBLISHED-TTL:PT1H
BEGIN:VTIMEZONE
TZID:Europe/Helsinki
BEGIN:DAYLIGHT
TZOFFSETFROM:+0200
TZOFFSETTO:+0300
TZNAME:EEST
DTSTART:20240331T010000
END:DAYLIGHT
BEGIN:STANDARD
TZOFFSETFROM:+0300
TZOFFSETTO:+0200
TZNAME:EET
DTSTART:20241027T010000
END:STANDARD
BEGIN:DAYLIGHT
TZOFFSETFROM:+0200
TZOFFSETTO:+0300
TZNAME:EEST
DTSTART:20250330T010000
END:DAYLIGHT
BEGIN:STANDARD
TZOFFSETFROM:+0300
TZOFFSETTO:+0200
TZNAME:EET
DTSTART:20251026T010000
END:STANDARD
BEGIN:DAYLIGHT
TZOFFSETFROM:+0200
TZOFFSETTO:+0300
TZNAME:EEST
DTSTART:20260329T010000
END:DAYLIGHT
BEGIN:STANDARD
TZOFFSETFROM:+0300
TZOFFSETTO:+0200
TZNAME:EET
DTSTART:20261025T010000
END:STANDARD
END:VTIMEZONE
BEGIN:VEVENT
DTSTART;TZID=Europe/Helsinki:20251010T140000
DTEND;TZID=Europe/Helsinki:20251010T210000
DTSTAMP:20260421T223121
CREATED:20250826T095121Z
LAST-MODIFIED:20250826T095126Z
UID:3862-1760104800-1760130000@vty.fi
SUMMARY:VTY 90 vuotta -päivätapahtuma ja juhlaillallinen
DESCRIPTION:Valtiotieteellisen yhdistyksen 90-vuotista taivalta juhlistetaan Helsingin yliopistolla 10.10.2025 ensin esitelmä- ja keskustelutapahtumassa Metsätalolla kello 14-17\, ja tämän jälkeen juhlaillallisella ravintola Sunnissa kello 18 alkaen. Päivätapahtuma on maksuton\, ja paikalla on kahvitarjoilu. Tarkemmat tiedot ja ilmoittautumisohjeet illalliselle julkaistaan VTY:n kanavilla juhlapäivän lähestyessä.
URL:https://vty.fi/tapahtuma/vty-90-vuotta-paivatapahtuma-ja-juhlaillallinen/
END:VEVENT
END:VCALENDAR