BEGIN:VCALENDAR
VERSION:2.0
PRODID:-//Valtiotieteellinen yhdistys - ECPv6.15.20//NONSGML v1.0//EN
CALSCALE:GREGORIAN
METHOD:PUBLISH
X-WR-CALNAME:Valtiotieteellinen yhdistys
X-ORIGINAL-URL:https://vty.fi
X-WR-CALDESC:Tapahtumat Valtiotieteellinen yhdistys
REFRESH-INTERVAL;VALUE=DURATION:PT1H
X-Robots-Tag:noindex
X-PUBLISHED-TTL:PT1H
BEGIN:VTIMEZONE
TZID:Europe/Helsinki
BEGIN:DAYLIGHT
TZOFFSETFROM:+0200
TZOFFSETTO:+0300
TZNAME:EEST
DTSTART:20230326T010000
END:DAYLIGHT
BEGIN:STANDARD
TZOFFSETFROM:+0300
TZOFFSETTO:+0200
TZNAME:EET
DTSTART:20231029T010000
END:STANDARD
BEGIN:DAYLIGHT
TZOFFSETFROM:+0200
TZOFFSETTO:+0300
TZNAME:EEST
DTSTART:20240331T010000
END:DAYLIGHT
BEGIN:STANDARD
TZOFFSETFROM:+0300
TZOFFSETTO:+0200
TZNAME:EET
DTSTART:20241027T010000
END:STANDARD
BEGIN:DAYLIGHT
TZOFFSETFROM:+0200
TZOFFSETTO:+0300
TZNAME:EEST
DTSTART:20250330T010000
END:DAYLIGHT
BEGIN:STANDARD
TZOFFSETFROM:+0300
TZOFFSETTO:+0200
TZNAME:EET
DTSTART:20251026T010000
END:STANDARD
END:VTIMEZONE
BEGIN:VEVENT
DTSTART;TZID=Europe/Helsinki:20241030T170000
DTEND;TZID=Europe/Helsinki:20241030T181500
DTSTAMP:20260422T144933
CREATED:20241009T173431Z
LAST-MODIFIED:20241014T134547Z
UID:3703-1730307600-1730312100@vty.fi
SUMMARY:Pro et Contra book series launch webinar "Reconfiguring EU Peripheries": Political Elites\, Contestation\, and Geopolitical Shifts edited by Miruna Butnaru Troncotă\, Ali Onur Özçelik\, Radu-Alexandru Cucută
DESCRIPTION:Exploring new and old peripheries in Europe \n\n\n\nWe invite you for a discussion around co-edited open access book on Reconfiguring EUPeripheries. \n\n\n\nThe volume explores the diverse nature of the European Union’s interactions with itsperipheries. Focusing on a period of rising regional tensions marked most recently by thewar in Ukraine\, the volume casts new empirical and conceptual light on the diversemotivations that underpin the political elites’ attitudes towards the EU in Bosnia andHerzegovina\, Georgia\, Hungary\, Kosovo\, Moldova\, Romania\, Türkiye and Ukraine.The event’s two guest speakers explore and discuss the shifting nature of EU peripheriesand the impact of recent crises and conflicts that made some countries express the needfor ‘more EU’. At the same time\, some nations highlight their doubts anddisappointments over the challenges they have faced over recent years due to the EUintegration process. \n\n\n\nProgramme:Opening words by Taru Haapala\, Editor-in-Chief of the book seriesIntroduction to the volume by Editors Miruna Butnaru Troncotă & Ali OnurÖzçelikGuest speakers’ remarks:Veronika Sušová-Salminen (!Argument & Cross-Border Talks)Francesco Trupia (Nicolaus Copernicus University\, Toruń – Poland)Q&AClosing remarks \n\n\n\nRegistration needed!Register here by 28 October 2024. \n\n\n\nPlease note that we will gather the necessary registration information only in the purpose of sending a zoom-link before the event. The event will be also recorded.  \n\n\n\nFor more information\, please contact Anna Kronlund\, anna.kronlund@utu.fi. \n\n\n\nThis event has received funding from the Finnish Association for Scholarly Publishing (FI: Suomen tiedekustantajien liitto ry).
URL:https://vty.fi/tapahtuma/pro-et-contra-book-series-launch-reconfiguring-eu-peripheries/
END:VEVENT
END:VCALENDAR