BEGIN:VCALENDAR
VERSION:2.0
PRODID:-//Valtiotieteellinen yhdistys - ECPv6.15.20//NONSGML v1.0//EN
CALSCALE:GREGORIAN
METHOD:PUBLISH
X-WR-CALNAME:Valtiotieteellinen yhdistys
X-ORIGINAL-URL:https://vty.fi
X-WR-CALDESC:Tapahtumat Valtiotieteellinen yhdistys
REFRESH-INTERVAL;VALUE=DURATION:PT1H
X-Robots-Tag:noindex
X-PUBLISHED-TTL:PT1H
BEGIN:VTIMEZONE
TZID:Europe/Helsinki
BEGIN:DAYLIGHT
TZOFFSETFROM:+0200
TZOFFSETTO:+0300
TZNAME:EEST
DTSTART:20230326T010000
END:DAYLIGHT
BEGIN:STANDARD
TZOFFSETFROM:+0300
TZOFFSETTO:+0200
TZNAME:EET
DTSTART:20231029T010000
END:STANDARD
BEGIN:DAYLIGHT
TZOFFSETFROM:+0200
TZOFFSETTO:+0300
TZNAME:EEST
DTSTART:20240331T010000
END:DAYLIGHT
BEGIN:STANDARD
TZOFFSETFROM:+0300
TZOFFSETTO:+0200
TZNAME:EET
DTSTART:20241027T010000
END:STANDARD
BEGIN:DAYLIGHT
TZOFFSETFROM:+0200
TZOFFSETTO:+0300
TZNAME:EEST
DTSTART:20250330T010000
END:DAYLIGHT
BEGIN:STANDARD
TZOFFSETFROM:+0300
TZOFFSETTO:+0200
TZNAME:EET
DTSTART:20251026T010000
END:STANDARD
BEGIN:DAYLIGHT
TZOFFSETFROM:+0200
TZOFFSETTO:+0300
TZNAME:EEST
DTSTART:20260329T010000
END:DAYLIGHT
BEGIN:STANDARD
TZOFFSETFROM:+0300
TZOFFSETTO:+0200
TZNAME:EET
DTSTART:20261025T010000
END:STANDARD
BEGIN:DAYLIGHT
TZOFFSETFROM:+0200
TZOFFSETTO:+0300
TZNAME:EEST
DTSTART:20270328T010000
END:DAYLIGHT
BEGIN:STANDARD
TZOFFSETFROM:+0300
TZOFFSETTO:+0200
TZNAME:EET
DTSTART:20271031T010000
END:STANDARD
END:VTIMEZONE
BEGIN:VEVENT
DTSTART;TZID=Europe/Helsinki:20241030T170000
DTEND;TZID=Europe/Helsinki:20241030T181500
DTSTAMP:20260423T004956
CREATED:20241009T173431Z
LAST-MODIFIED:20241014T134547Z
UID:3703-1730307600-1730312100@vty.fi
SUMMARY:Pro et Contra book series launch webinar "Reconfiguring EU Peripheries": Political Elites\, Contestation\, and Geopolitical Shifts edited by Miruna Butnaru Troncotă\, Ali Onur Özçelik\, Radu-Alexandru Cucută
DESCRIPTION:Exploring new and old peripheries in Europe \n\n\n\nWe invite you for a discussion around co-edited open access book on Reconfiguring EUPeripheries. \n\n\n\nThe volume explores the diverse nature of the European Union’s interactions with itsperipheries. Focusing on a period of rising regional tensions marked most recently by thewar in Ukraine\, the volume casts new empirical and conceptual light on the diversemotivations that underpin the political elites’ attitudes towards the EU in Bosnia andHerzegovina\, Georgia\, Hungary\, Kosovo\, Moldova\, Romania\, Türkiye and Ukraine.The event’s two guest speakers explore and discuss the shifting nature of EU peripheriesand the impact of recent crises and conflicts that made some countries express the needfor ‘more EU’. At the same time\, some nations highlight their doubts anddisappointments over the challenges they have faced over recent years due to the EUintegration process. \n\n\n\nProgramme:Opening words by Taru Haapala\, Editor-in-Chief of the book seriesIntroduction to the volume by Editors Miruna Butnaru Troncotă & Ali OnurÖzçelikGuest speakers’ remarks:Veronika Sušová-Salminen (!Argument & Cross-Border Talks)Francesco Trupia (Nicolaus Copernicus University\, Toruń – Poland)Q&AClosing remarks \n\n\n\nRegistration needed!Register here by 28 October 2024. \n\n\n\nPlease note that we will gather the necessary registration information only in the purpose of sending a zoom-link before the event. The event will be also recorded.  \n\n\n\nFor more information\, please contact Anna Kronlund\, anna.kronlund@utu.fi. \n\n\n\nThis event has received funding from the Finnish Association for Scholarly Publishing (FI: Suomen tiedekustantajien liitto ry).
URL:https://vty.fi/tapahtuma/pro-et-contra-book-series-launch-reconfiguring-eu-peripheries/
END:VEVENT
BEGIN:VEVENT
DTSTART;TZID=Europe/Helsinki:20241120T140000
DTEND;TZID=Europe/Helsinki:20241120T180000
DTSTAMP:20260423T004956
CREATED:20241105T052453Z
LAST-MODIFIED:20241105T052550Z
UID:3730-1732111200-1732125600@vty.fi
SUMMARY:Politiikka-lehden digiarkistojen julkaisutapahtuma
DESCRIPTION:Valtiotieteellinen yhdistys juhlistaa suomalaisen politiikan tutkimuksen tieteellisen lippulaivan eli Politiikka-lehden digitoitujen arkistojen julkaisua keskiviikkona 20.11. klo 14-18 Helsingissä valtiotieteellisen tiedekunnan tiedekuntasalissa (Unioninkatu 37). \n\n\n\nVuodesta 2019 avoimesti digitaalisessa muodossa julkaistu Politiikka-lehti on vuonna 2024 ehtinyt jo 66. vuosikertaansa. Digitoiduissa arkistoissa on siis jopa 60 vuoden edestä suomalaisen politiikan tutkimuksen historiaa. Politiikka-lehti on siis yksi vanhimmista suomalaisista tiedelehdistä\, ja sen arkistojen digitointi oli poikkeuksellisen iso tehtävä! \n\n\n\nTilaisuuden avaa VTY:n puheenjohtaja\, Hanna-Mari Kivistö. Itse julkaisutilaisuus jakautuu kahteen osuuteen. Ensimmäisessä luodaan katsauksia politiikan tutkimuksen historiaan.Osiossa Politiikka-lehden entinen päätoimittaja (2019-2020) Mikko Poutanen haastattelee Rauli Mickelssonia (emeritus\, Turun yliopisto) ja Jenni Rinnettä (Suomen Akatemia). Keskustelussa luodataan myös osallistujien omia muistoja Politiikka-lehdestä osana heidän uraansa ja opintojaan. \n\n\n\nTilaisuuden toisessa osassa kuullaan useita puheenvuoroja ja keskustellaan ajankohtaisesti avoimen tiedejulkaisemisen käytänteistä ja niistä haasteista\, mitä digitointihankkeessa kohdattiin. Keskustelusta voi siten olla myös hyötyä muiden tiedelehtien edustajille\, jotka myös miettivät omien arkistojensa digitointia ja avointa julkaisemista. \n\n\n\nToisessa osiossa mukana: \n\n\n\n\nNiko Tiitto (Digitointihankkeen tekninen vastaava)\n\n\n\nAntti Pajala (VTY)\n\n\n\nPauliina Raento (Suomen Tiedekustantajien liitto)\n\n\n\nSami Syrjämäki (Tieteellisten seurain valtuuskunta – TSV)\n\n\n\nKirsi Salmela (Kopiosto)\n\n\n\nEmilia Palonen (TSV/VTY)\n\n\n\nVTY:n varapuheenjohtaja Samuel Lindholm
URL:https://vty.fi/tapahtuma/politiikka-lehden-digiarkistojen-julkaisutapahtuma/
END:VEVENT
BEGIN:VEVENT
DTSTART;TZID=Europe/Helsinki:20241125T160000
DTEND;TZID=Europe/Helsinki:20241125T173000
DTSTAMP:20260423T004956
CREATED:20241122T074543Z
LAST-MODIFIED:20241122T074543Z
UID:3746-1732550400-1732555800@vty.fi
SUMMARY:
DESCRIPTION:Politiikasta.fi: USA:n presidentinvaalien jälkipyykki \n\n\n\n\n\n\n\n\n\n\nYhdysvaltojen presidentinvaalit 2024: Jälkipyykki
URL:https://vty.fi/tapahtuma/3746/
END:VEVENT
BEGIN:VEVENT
DTSTART;TZID=Europe/Helsinki:20250404T140000
DTEND;TZID=Europe/Helsinki:20250404T160000
DTSTAMP:20260423T004956
CREATED:20250220T055221Z
LAST-MODIFIED:20250220T055226Z
UID:3812-1743775200-1743782400@vty.fi
SUMMARY:VTY:n vuosikokous 2025
DESCRIPTION:Yhdistyksen vuosikokous järjestetään perjantaina 4.4.2025 alkaen kello 14.00 tasan Tieteiden talon Arokallio-salissa Helsingissä (Kirkkokatu 6). Kokoukselle on varattu aikaa kaksi tuntia. Kokoukseen tulee etäosallistumismahdollisuus zoomitse. Käsiteltävänä ovat yhdistyksen toimintaa tulevana vuonna ohjaavat asiat\, kuten toimintasuunnitelma ja talousarvio\, sekä tili- ja vastuuvapausasiat vuodelta 2024. Kokouksessa valitaan johtokunta ja muut vastuuhenkilöt tulevalle kaudelle.
URL:https://vty.fi/tapahtuma/vtyn-vuosikokous-2025/
END:VEVENT
BEGIN:VEVENT
DTSTART;TZID=Europe/Helsinki:20250414T120000
DTEND;TZID=Europe/Helsinki:20250416T150000
DTSTAMP:20260423T004956
CREATED:20240718T084723Z
LAST-MODIFIED:20240718T085032Z
UID:3671-1744632000-1744815600@vty.fi
SUMMARY:Politiikan tutkimuksen päivät 2025
DESCRIPTION:VTY:n vuosittainen tieteellinen päätapahtuma Politiikan tutkimuksen päivät järjestetään Rovaniemellä 14.–16.4.2025 teemalla Politiikan maa-ilmat. Pysy kuulolla!
URL:https://vty.fi/tapahtuma/politiikan-tutkimuksen-paivat-2025/
END:VEVENT
BEGIN:VEVENT
DTSTART;TZID=Europe/Helsinki:20251010T140000
DTEND;TZID=Europe/Helsinki:20251010T210000
DTSTAMP:20260423T004956
CREATED:20250826T095121Z
LAST-MODIFIED:20250826T095126Z
UID:3862-1760104800-1760130000@vty.fi
SUMMARY:VTY 90 vuotta -päivätapahtuma ja juhlaillallinen
DESCRIPTION:Valtiotieteellisen yhdistyksen 90-vuotista taivalta juhlistetaan Helsingin yliopistolla 10.10.2025 ensin esitelmä- ja keskustelutapahtumassa Metsätalolla kello 14-17\, ja tämän jälkeen juhlaillallisella ravintola Sunnissa kello 18 alkaen. Päivätapahtuma on maksuton\, ja paikalla on kahvitarjoilu. Tarkemmat tiedot ja ilmoittautumisohjeet illalliselle julkaistaan VTY:n kanavilla juhlapäivän lähestyessä.
URL:https://vty.fi/tapahtuma/vty-90-vuotta-paivatapahtuma-ja-juhlaillallinen/
END:VEVENT
BEGIN:VEVENT
DTSTART;TZID=Europe/Helsinki:20251208T140000
DTEND;TZID=Europe/Helsinki:20251208T160000
DTSTAMP:20260423T004956
CREATED:20251201T180903Z
LAST-MODIFIED:20251201T193717Z
UID:3909-1765202400-1765209600@vty.fi
SUMMARY:Kirjanjulkaisu
DESCRIPTION:Maanantaina 8.12.2025 kello 14–16 järjestetään kirjanjulkaisutapahtuma verkossa. VTY:n Pro et Contra kirjasarjan neljäs teos on saatavilla avoimesti HUP:n sivulla. \n\n\n\n\n\n\n\nKeskustelemassa ovat ”The Birth and Death of Liberal Democracy in Hungary: The Populist Logic of Polarisation as Hegemony” -kirjan kirjoittaja Emilia Palonen Helsingin yliopistosta sekä professori Ruzha Smilova\, illiberaalin politiikan teorian tutkija Sofian yliopistosta\, ja professori Mercedes Barros (CONICET\, Argentiina). \n\n\n\nTilaisuus on englanninkielinen. Teams-linkki: https://view.page/tjCQn6
URL:https://vty.fi/tapahtuma/kirjanjulkaisu/
END:VEVENT
BEGIN:VEVENT
DTSTART;TZID=Europe/Helsinki:20260226T160000
DTEND;TZID=Europe/Helsinki:20260226T180000
DTSTAMP:20260423T004956
CREATED:20260130T164352Z
LAST-MODIFIED:20260130T164458Z
UID:3947-1772121600-1772128800@vty.fi
SUMMARY:Keskustelutilaisuus: Miltä näyttää poliitikon ammatti kulissien takaa – ja mitä se kertoo ajastamme?
DESCRIPTION:Miltä näyttää poliitikon ammatti kulissien takaa – ja mitä se kertoo ajastamme? \n\n\n\nTule kuulemaan\, kun suomalaisen politiikan kokeneet vaikuttajat Heidi Hautala ja Petri Honkonen kertovat poliitikon roolin muutoksista uuden kansainvälisen kokoomateoksen  The Figure of the Politician in Modern and Contemporary Europe\, toimittaneet Pasi Ihalainen\, Rosario López\, Kari Palonen ja Henk te Velde(Berghahn Books\, Oxford/New York 2026) pohjalta.   \n\n\n\nTilaisuus on suunnattu poliitikoille\, tutkijoille\, toimittajille ja muille kiinnostuneille. Kiinnostuneita pyydetään ilmoittautumaan tapahtuman verkkosivujen kautta viimeistään 23. helmikuuta. Tilaisuuden alussa on maksuton kahvitarjoilu. Saliin mahtuu 40 kuulijaa. Tilaisuuteen ei ole tarjolla etäyhteyttä. Tapahtuman kieli on suomi.  \n\n\n\nMissä: Suomalainen Tiedeakatemia\, Mariankatu 5 A\, 2. kerros (Väisälä-sali)\, Helsinki 00170  \n\n\n\nMilloin: 26.2.2026 klo 16:00-18:00  \n\n\n\nJärjestäjät: \n\n\n\nTieteellinen aikakauslehti Redescriptions: Political Thought\, Conceptual History and Feminist Theory \n\n\n\nAkatemiaprofessorin tutkimushanke Poliittinen edustuksellisuus. Parlamentin ja kansan väliset jännitteet vallankumousten aikakaudelta 2000-luvulle\, Jyväskylän yliopisto  \n\n\n\nSuomalainen Tiedeakatemia  \n\n\n\nValtiotieteellinen Yhdistys 
URL:https://vty.fi/tapahtuma/keskustelutilaisuus-milta-nayttaa-poliitikon-ammatti-kulissien-takaa-ja-mita-se-kertoo-ajastamme/
END:VEVENT
BEGIN:VEVENT
DTSTART;TZID=Europe/Helsinki:20260327T140000
DTEND;TZID=Europe/Helsinki:20260327T160000
DTSTAMP:20260423T004956
CREATED:20260207T143648Z
LAST-MODIFIED:20260318T125256Z
UID:3961-1774620000-1774627200@vty.fi
SUMMARY:VTY:n vuosikokous 2026
DESCRIPTION:Yhdistyksen sääntömääräinen vuosikokous \n\n\n\nPaikka: Tieteiden talon Borg-sali (Kirkkokatu 6\, Helsinki) ja Zoom \n\n\n\nAika: Pe 27.3.2026 klo 14.00–16.00 \n\n\n\nZoom-linkki: https://utu.zoom.us/j/64550913885  \n\n\n\nEsityslista: \n\n\n\n1. Vuosikokouksen avaus \n\n\n\n2. Kokouksen puheenjohtajan\, sihteerin\, kahden pöytäkirjantarkastajan ja ääntenlaskijan valinta \n\n\n\n3. Kokouksen laillisuuden ja päätösvaltaisuuden toteaminen \n\n\n\n4. Vuosikertomuksen 2025 esittäminen \n\n\n\n5. Tilinpäätöksen 2025 ja tilintarkastajien lausunnon esittely \n\n\n\n6. Tilinpäätöksen vahvistaminen ja vastuuvapauden myöntäminen johtokunnalle ja muille asianomaisille \n\n\n\n7. Toimintasuunnitelman 2026 esittäminen \n\n\n\n8. Talousarvio 2026 esittäminen \n\n\n\n9. Jäsenmaksun suuruudesta päättäminen (vuosi 2027) \n\n\n\n10. Toimintasuunnitelman ja talousarvion vahvistaminen \n\n\n\n11. Yhdistyksen puheenjohtajan valinta \n\n\n\n12. Yhdistyksen varapuheenjohtajan valinta \n\n\n\n13. Yhdistyksen johtokunnan jäsenten valinta \n\n\n\n14. Yhdistyksen toiminnantarkastajien ja varatoiminnantarkastajien valinta \n\n\n\n15. Yhdistyksen sääntömuutos \n\n\n\n16. Muut esille tulevat asiat \n\n\n\n17. Kokouksen päättäminen
URL:https://vty.fi/tapahtuma/vtyn-vuosikokous-2026/
END:VEVENT
BEGIN:VEVENT
DTSTART;TZID=Europe/Helsinki:20260506T080000
DTEND;TZID=Europe/Helsinki:20260506T170000
DTSTAMP:20260423T004956
CREATED:20260318T125101Z
LAST-MODIFIED:20260318T125107Z
UID:3966-1778054400-1778086800@vty.fi
SUMMARY:Politiikan tutkimuksen päivät 2026
DESCRIPTION:VTY:n vuosittainen tieteellinen päätapahtuma Politiikan tutkimuksen päivät järjestetään Tampereella 6.–8. toukokuuta 2026. Tarkemmat tiedot konferenssin sivuilla: https://events.tuni.fi/politiikantutkimuksenpaivat2026/
URL:https://vty.fi/tapahtuma/politiikan-tutkimuksen-paivat-2026/
END:VEVENT
END:VCALENDAR