BEGIN:VCALENDAR
VERSION:2.0
PRODID:-//Valtiotieteellinen yhdistys - ECPv6.15.20//NONSGML v1.0//EN
CALSCALE:GREGORIAN
METHOD:PUBLISH
X-ORIGINAL-URL:https://vty.fi
X-WR-CALDESC:Tapahtumat Valtiotieteellinen yhdistys
REFRESH-INTERVAL;VALUE=DURATION:PT1H
X-Robots-Tag:noindex
X-PUBLISHED-TTL:PT1H
BEGIN:VTIMEZONE
TZID:Europe/Helsinki
BEGIN:DAYLIGHT
TZOFFSETFROM:+0200
TZOFFSETTO:+0300
TZNAME:EEST
DTSTART:20200329T010000
END:DAYLIGHT
BEGIN:STANDARD
TZOFFSETFROM:+0300
TZOFFSETTO:+0200
TZNAME:EET
DTSTART:20201025T010000
END:STANDARD
BEGIN:DAYLIGHT
TZOFFSETFROM:+0200
TZOFFSETTO:+0300
TZNAME:EEST
DTSTART:20210328T010000
END:DAYLIGHT
BEGIN:STANDARD
TZOFFSETFROM:+0300
TZOFFSETTO:+0200
TZNAME:EET
DTSTART:20211031T010000
END:STANDARD
BEGIN:DAYLIGHT
TZOFFSETFROM:+0200
TZOFFSETTO:+0300
TZNAME:EEST
DTSTART:20220327T010000
END:DAYLIGHT
BEGIN:STANDARD
TZOFFSETFROM:+0300
TZOFFSETTO:+0200
TZNAME:EET
DTSTART:20221030T010000
END:STANDARD
BEGIN:DAYLIGHT
TZOFFSETFROM:+0200
TZOFFSETTO:+0300
TZNAME:EEST
DTSTART:20230326T010000
END:DAYLIGHT
BEGIN:STANDARD
TZOFFSETFROM:+0300
TZOFFSETTO:+0200
TZNAME:EET
DTSTART:20231029T010000
END:STANDARD
END:VTIMEZONE
BEGIN:VEVENT
DTSTART;TZID=Europe/Helsinki:20221111T130000
DTEND;TZID=Europe/Helsinki:20221111T143000
DTSTAMP:20260419T164641
CREATED:20221104T085424Z
LAST-MODIFIED:20221111T102350Z
UID:3306-1668171600-1668177000@vty.fi
SUMMARY:Early Scholars -verkoston keskustelutilaisuus: Akateemisen työn hiljainen tieto (fi/en)
DESCRIPTION:Keskustelutilaisuus akateemiseen työhön liittyvästä hiljaisesta tiedosta\, sen tunnistamisesta ja jakamisesta. \n\n\n\nValtiotieteellisen yhdistyksen Early Scholars -verkosto järjestää perjantaina 11. marraskuuta klo 13–14.30 rennon keskustelutilaisuuden Zoomissa\, jossa sinulla on mahdollisuus kysyä eri uravaiheissa olevilta valtio-opin tutkijoilta akateemisesta työurasta ja työskentelystä akateemisessa maailmassa. Tämä on tilaisuutesi kysyä kaikki\, mitä olet aina halunnut tietää yliopistomaailmasta\, mutta syystä tai toisesta sinulla ei ole ollut tilaisuutta esittää kysymystä. \n\n\n\nTilaisuudessa kysymyksiin vastailevat yleisen valtio-opin professori Anne Maria Holli (Helsingin yliopisto)\, tutkijatohtori Josefina Sipinen (Tampereen yliopisto) ja väitöskirjatutkija Veikko Isotalo (Helsingin yliopisto). \n\n\n\nIlmoittautuminen tästä linkistä: https://forms.office.com/r/Fz3mwsBPCB.Zoom-linkki: https://tuni.zoom.us/j/65448804711?pwd=YkY4R1JEdWZBUnNRTmN6UC9kT2JDQT09.  \n\n\n\nTule langoille kysymyksiesi kanssa ja saat niihin vastauksia! Mukaan saa ja kannattaa tulla totta kai myös ilman valmiita kysymyksiä. \n\n\n\n \n\n\n\n \n\n\n\nIn English: \n\n\n\nThe Finnish Political Science Association’s Early Scholars Network invites you to a relaxed Zoom discussion that offers you the chance to ask everything you ever wanted to know\, but never had the chance to ask from Political Science scholars of varying career stages. The event will be held on November 11\, at 1–2.30 pm. \n\n\n\nQuestions will be answered by Professor Anne Maria Holli (University of Helsinki)\, Postdoctoral Research Fellow Josefina Sipinen (Tampere University)\, and Doctoral Researcher Veikko Isotalo (University of Helsinki). \n\n\n\nEnroll here: https://forms.office.com/r/Fz3mwsBPCB.  \n\n\n\nZoom-link: https://tuni.zoom.us/j/65448804711?pwd=YkY4R1JEdWZBUnNRTmN6UC9kT2JDQT09 \n\n\n\nJoin us online with your questions and receive answers! You may of course participate without any questions prepared.
URL:https://vty.fi/tapahtuma/early-scholars-verkoston-keskustelutilaisuus-akateemisen-tyon-hiljainen-tieto/
CATEGORIES:Tulevat tapahtumat
END:VEVENT
BEGIN:VEVENT
DTSTART;TZID=Europe/Helsinki:20221011T140000
DTEND;TZID=Europe/Helsinki:20221011T160000
DTSTAMP:20260419T164641
CREATED:20221005T135532Z
LAST-MODIFIED:20221010T141926Z
UID:3245-1665496800-1665504000@vty.fi
SUMMARY:Webinaari: Politiikka-lehden koulutustilaisuus
DESCRIPTION:Tervetuloa Politiikka-lehden järjestämään koulutustilaisuuteen tiistaina 11.10. klo 14–16. Tilaisuus järjestetään virtuaalisena kokoontumisena Zoom-alustalla. Voit ilmoittautua tilaisuuteen täällä: https://link.webropol.com/ep/politiikkalehti. Tilaisuutta ei tallenneta.   \n\n\n\nTilaisuuden ensimmäisessä osiossa Politiikka-lehden toimitus käy läpi artikkelikäsikirjoituksien lähettämistä ja vastaanottamista\, refereiden valintaa ja vertaispalautetta sekä artikkeleiden toimittamista ja julkaisua. Esitys havainnollistaa tieteellisen julkaisemisen eri vaiheita ja auttaa valmistautumaan niihin. Puheenvuoron käyttävät lehden päätoimittaja\,dosentti\, YTT Katja Mäkinen (Jyväskylän yliopisto)\, toimituspäällikkö\, YTM Miika Salo (Tampereen yliopisto) ja toimitussihteeri\, YTM Annu Perälä (Vaasan yliopisto).  \n\n\n\nToisessa osiossa kuullaan kolme kommenttipuheenvuoroa politiikan tutkijoilta. Apulaisprofessori\, VTT Tuomas Ylä-Anttila (Helsingin yliopisto) kertoo kokeneena vertaisarvioitsijana millaisiin asioihin hän kiinnittää huomiota vertaispalautetta laatiessaan. Tutkijatohtori\, YTT Aino Tiihonen (Tampereen yliopisto) valottaa omiin kokemuksiinsa pohjaten\, millaisia tunteita vertaisarvioinnin vastaanottaminen voi herättää ja miten hän käsittelee niitä osana työtään. Lopuksi tutkijatohtori\, VTT Juha Ylisalo (Turun yliopisto) opastaa vertaispalautteeseen vastaamisessa ja muutossynopsiksen kirjoittamisessa.  \n\n\n\nTilaisuudessa on myös mahdollista esittää kysymyksiä ja kommentteja toimituksella ja kommenttipuheenvuoron pitäjille.   \n\n\n\nTilaisuus on suunnattu erityisesti perustutkinto-opiskelijoille\, väitöskirjatutkijoille ja hiljattain väitelleille politiikan tutkijoille. Tilaisuus on kuitenkin avoin kaikille aihealueesta kiinnostuneille taustasta ja alasta riippumatta. Tilaisuuden rahoitukseen on osallistunut Suomen tiedekustantajien liitto ry. 
URL:https://vty.fi/tapahtuma/webinaari-politiikka-lehden-koulutustilaisuus/
END:VEVENT
BEGIN:VEVENT
DTSTART;TZID=Europe/Helsinki:20220511T000000
DTEND;TZID=Europe/Helsinki:20220513T235959
DTSTAMP:20260419T164641
CREATED:20211220T154728Z
LAST-MODIFIED:20211221T085726Z
UID:2552-1652227200-1652486399@vty.fi
SUMMARY:Politiikan tutkimuksen päivät – Statsvetardagarna 2022
DESCRIPTION:Vuonna 2022 päivien teemana on Sata vuotta yleistä valtio-oppia – Tulevaisuus\, menneisyys\, nykyisyys. \n\n\n\nÅr 2022 är temat för dagarna Hundra år av allmän statsvetenskap – Framtid\, dåtid\, nutid. \n\n\n\nIn 2022\, the theme of the conference is Hundred years of general political science – Future\, Past\, Present.
URL:https://vty.fi/tapahtuma/politiikan-tutkimuksen-paivat-statsvetardagarna-2022/
CATEGORIES:Tulevat tapahtumat
END:VEVENT
BEGIN:VEVENT
DTSTART;TZID=Europe/Helsinki:20211125T170000
DTEND;TZID=Europe/Helsinki:20211125T180000
DTSTAMP:20260419T164641
CREATED:20211103T190502Z
LAST-MODIFIED:20211104T081135Z
UID:2415-1637859600-1637863200@vty.fi
SUMMARY:Webinaari: Miksi YK?
DESCRIPTION:76-vuotiaan Yhdistyneiden Kansakuntien (YK) merkitystä rauhan ja turvallisuuden ylläpitäjänä sekä ihmisoikeuksien ja kehityksen edistäjänä ei voi liikaa korostaa. Samaan aikaan YK:n toimintaan ja kansainväliseen yhteistyöhön liittyy ristiriitaisia intressejä ja kilpailevia odotuksia. YK:n keskiössä ovat sen jäsenmaat\, mutta yhä useammin YK:n ja monenkeskisen kansainvälisen yhteisön merkitystä korostetaan myös ruohonjuuritasolla. Webinaarissa keskustellaan YK:n arvovallasta\, merkityksestä ja siitä\, miksi esimerkiksi Suomen kannalta on tärkeää olla mukana edistämässä kansainvälisen järjestyksen ylläpitämistä maailmanpoliittisessa tilanteessa suurten muutosten keskellä. \n\n\n\nTervetuloa Miksi YK? -webinaariin keskustelemaan YK:sta ja sen merkityksestä 2020-luvulla. Webinaari järjestetään torstaina 25.11.2021 kello 17-18:00 Zoomissa. Ilmoittautumalla webinaariin oheisen linkin kautta saat tapahtuman Zoom-linkin sähköpostiisi ennen seminaarin alkua. Ilmoittautumisia pyydetään maanantaihin 22.11.2021 mennessä. \n\n\n\nWebinaarissa ovat keskustelemassa YK:n ystävät -verkoston puheenjohtaja ja Helsingin yliopiston oikeuslääketieteen professori (emerita) Helena Ranta sekä yhteiskuntatieteiden tohtori Anna Kronlund (Jyväskylän yliopisto). Webinaarin moderaattorina toimii dosentti Teemu Häkkinen (Jyväskylän yliopisto). \n\n\n\nWebinaarin järjestävät Koneen säätiön rahoittama tutkimushanke ”Yhdistyneiden kansakuntien legitimiteetti ja ylikansalliset haasteet\, 1990–2019” yhdessä Valtiotieteellisen yhdistyksen kanssa.
URL:https://vty.fi/tapahtuma/webinaari-miksi-yk/
CATEGORIES:Tulevat tapahtumat
ATTACH;FMTTYPE=image/jpeg:https://vty.fi/wp-content/uploads/2021/11/512px-UN_General_Assembly_hall.jpg
END:VEVENT
BEGIN:VEVENT
DTSTART;TZID=Europe/Helsinki:20211124T130000
DTEND;TZID=Europe/Helsinki:20211124T160000
DTSTAMP:20260419T164641
CREATED:20211101T183847Z
LAST-MODIFIED:20211112T114346Z
UID:2394-1637758800-1637769600@vty.fi
SUMMARY:Avoimen tiedejulkaisemisen edut ja haasteet käytännössä
DESCRIPTION:Tervetuloa mukaan Pro et Contra –kirjasarjan avointa tiedejulkaisemista koskevaan etätilaisuuteen\, joka järjestetään keskiviikkona 24.11.2021\, kello 13-16. Tapahtuma järjestetään yhdessä Helsinki University Pressin kanssa. Tilaisuuden rahoitukseen on osallistunut Suomen tiedekustantajien liitto ry.  \n\n\n\nTilaisuus on avoin kaikille avoimesta julkaisusta kiinnostuneille tahoille.   \n\n\n\nIlmoittautumalla perjantaihin 19.11.2021 mennessä saat Zoom-linkin sähköpostiisi ennen tapahtumaa.  \n\n\n\n\n\n\n\nAlustava ohjelma:  \n\n\n\n13:00 tilaisuuden avaus\, päätoimittaja Taru Haapala ja vastaava toimittaja Anna Kronlund\, Valtiotieteellisen yhdistyksen Pro et Contra -kirjasarja  \n\n\n\n13:15 Helsinki University Press ja OA-julkaiseminen: kustannusjohtaja Leena Kaakinen\, Helsinki University Press  \n\n\n\n13:30-14:15 OA-julkaisemiseen siirtyminen: päätoimittaja Anu Lahtinen\, Historiallinen Aikakauskirja  \n\n\n\n14:15-14:30 kahvitauko  \n\n\n\n14:30-15:15 OA-julkaisemisen rahoitukseen liittyvät kysymykset: julkaisupäällikkö Sami Syrjämäki\, Tieteellisten seurain valtuuskunta  \n\n\n\n15:15-16:00 OA-julkaisun toimittaminen: päätoimittaja Kirsi Pauliina Kallio\, Fennia – International Journal of Geography
URL:https://vty.fi/tapahtuma/tiedejulkaisemisen-edut-ja-haasteet-kaytannossa/
CATEGORIES:Pro et Contra,Tulevat tapahtumat
ATTACH;FMTTYPE=image/jpeg:https://vty.fi/wp-content/uploads/2021/11/patrick-tomasso-Oaqk7qqNh_c-unsplash.jpg
END:VEVENT
BEGIN:VEVENT
DTSTART;TZID=Europe/Helsinki:20211014T180000
DTEND;TZID=Europe/Helsinki:20211014T193000
DTSTAMP:20260419T164641
CREATED:20211005T132253Z
LAST-MODIFIED:20211005T132820Z
UID:2360-1634234400-1634239800@vty.fi
SUMMARY:Valtio-opin vuosikymmenet – Tarinoita kuvien takaa
DESCRIPTION:Tervetuloa jakamaan muistoja valtio-opin tutkimuksesta\, opetuksesta ja opinnoista eri sukupolvia edustavien politologien kanssa. Juhla on osa valtio-opin 100-vuotismerkkivuotta ja sen järjestää Politiikka-lehti. Tilaisuus järjestetään virtuaalitapahtumana.
URL:https://vty.fi/tapahtuma/valtio-opin-vuosikymmenet-tarinoita-kuvien-takaa/
CATEGORIES:Tulevat tapahtumat
END:VEVENT
BEGIN:VEVENT
DTSTART;TZID=Europe/Helsinki:20210825T120000
DTEND;TZID=Europe/Helsinki:20210825T140000
DTSTAMP:20260419T164641
CREATED:20210615T080927Z
LAST-MODIFIED:20210811T154641Z
UID:2222-1629892800-1629900000@vty.fi
SUMMARY:Online event: Political imaginaries of climate change
DESCRIPTION:Headlines relating to climate change are becoming increasingly frequent in addition to becoming an acute policy issue. Climate change is included in the titles of both academic and non-academic conferences and brought to the agenda of the UN Security Council meetings. Furthermore\, new strains of climate change activism\, especially among the young\, give the impression that the issue is – or at the very least should be – on the agenda. Indeed\, climate change is taken seriously in the form of international agreements\, national policies and pledges\, individual activities\, NGO’s campaigns\, and business efforts. Simultaneously\, however\, different countries are in a very unequal positions regarding the “existential threat” that climate change imposes and whether it would make more sense from their perspective to speak about prevention\, adaptation\, or mitigation. This roundtable will focus on how we should speak about climate change and to what extent the existing frameworks are useful or constraining. The roundtable will further discuss how we can move on from the current framework into a more motivating or hopeful one\, that makes use of our political imagination. \n\n\n\n\n\n\n\nThis webinar is hosted by the Politiikasta web journal and the Finnish Political Science Association. The webinar is chaired by Dr. Anna Kronlund (University of Jyväskylä) and Dr. Mikko Poutanen\, the editor-in-chief of Politiikasta (Tampere University). Participants in the webinar discussion are Dr. Milla Vaha (University of the South Pacific)\, Dr. Diarmuid Torney (Dublin City University) and Dr. Emma Hakala (University of Helsinki & Bios research unit). The panellists have offered brief introductions to their points of view: \n\n\n\n\n\n\n\nDr. Vaha // From Nuclear to Climate Threat: Global Justice from the Pacific Perspective.In October 2019\, the Marshall Islands\, a small island state in the South Pacific\, declared a climate emergency. A month later\, it published a nuclear justice strategy. Both actions are related to what might be called an ‘existential threat’. Climate change\, in its potential to lead to complete state-extinction\, resembles the existential threat of complete war and nuclear disarmament with its capability of causing the extinction for humanity – both threats painfully familiar to the Pacific Island Countries. This contribution investigates the nature of the climatic existential threat by looking at it from the perspective of global justice and by comparing it to the threat more commonly studied in International Relations\, the nuclear threat. It explicates why these two threats are so strongly articulated in the South Pacific region and addresses how both of these threats raise serious questions of global justice. \n\n\n\nDr. Torney // What can deliberative democracy contribute to the fight against climate change?A growing number of countries in Europe and beyond are using deliberative democratic forums such as citizens’ assemblies and citizens’ juries to address climate change. This contribution will reflect on this growing practice and its promise and pitfalls. It will reflect on the following questions: How can “deliberative mini-publics”\, as they are often termed\, help to build societal consensus around stronger and fairer climate action? Can such forums be used to create radical new political imaginaries\, or do they risk becoming mirror images of the polities and societies that create them\, thereby reconfirming existing path dependencies? Where is agency located in these processes? How can they be effectively and legitimately integrated into existing institutional settings? \n\n\n\n\n\n\n\nDr. Hakala // “Waging a war on the nature”: The securitization of climate change as agenda-setting or policy-making?As a result of the increasingly shared perception of climate change as a security threat\, its consequences are now being widely acknowledged in risk assessments and security policy debates around the world. However\, efforts to turn the recognition into preventive measures or concrete climate security policy have largely been missing. This has also prompted concerns that the securitization of climate change will only have the impact of limiting democratic debate about it without contributing to its mitigation. In the light of these contradicting perspectives\, this contribution will consider the preconditions for developing effective climate security policy while remaining within the sphere of democracy and civil society. \n\n\n\n\n\n\n\nPlease register by 18:00 on Friday 20th August. Register to the event via this Forms link. After you have registered\, a link to the seminar will be sent to you before starting. \n\n\n\nThe event is a part of the year of research-based knowledge in Finland.
URL:https://vty.fi/tapahtuma/political-imaginaries-of-climate-change/
CATEGORIES:Politiikasta,Tulevat tapahtumat,Webinar
ATTACH;FMTTYPE=image/jpeg:https://vty.fi/wp-content/uploads/2021/06/annie-spratt-BqYttheZzUo-unsplash-scaled.jpg
END:VEVENT
END:VCALENDAR